BEGIN:VCALENDAR
VERSION:2.0
PRODID:-//Listerschützen - ECPv6.15.20//NONSGML v1.0//EN
CALSCALE:GREGORIAN
METHOD:PUBLISH
X-WR-CALNAME:Listerschützen
X-ORIGINAL-URL:https://listerschuetzen.de
X-WR-CALDESC:Veranstaltungen für Listerschützen
REFRESH-INTERVAL;VALUE=DURATION:PT1H
X-Robots-Tag:noindex
X-PUBLISHED-TTL:PT1H
BEGIN:VTIMEZONE
TZID:Europe/Berlin
BEGIN:DAYLIGHT
TZOFFSETFROM:+0100
TZOFFSETTO:+0200
TZNAME:CEST
DTSTART:20250330T010000
END:DAYLIGHT
BEGIN:STANDARD
TZOFFSETFROM:+0200
TZOFFSETTO:+0100
TZNAME:CET
DTSTART:20251026T010000
END:STANDARD
BEGIN:DAYLIGHT
TZOFFSETFROM:+0100
TZOFFSETTO:+0200
TZNAME:CEST
DTSTART:20260329T010000
END:DAYLIGHT
BEGIN:STANDARD
TZOFFSETFROM:+0200
TZOFFSETTO:+0100
TZNAME:CET
DTSTART:20261025T010000
END:STANDARD
BEGIN:DAYLIGHT
TZOFFSETFROM:+0100
TZOFFSETTO:+0200
TZNAME:CEST
DTSTART:20270328T010000
END:DAYLIGHT
BEGIN:STANDARD
TZOFFSETFROM:+0200
TZOFFSETTO:+0100
TZNAME:CET
DTSTART:20271031T010000
END:STANDARD
END:VTIMEZONE
BEGIN:VEVENT
DTSTART;TZID=Europe/Berlin:20260712T000000
DTEND;TZID=Europe/Berlin:20260712T000000
DTSTAMP:20260420T142528
CREATED:20260107T203659Z
LAST-MODIFIED:20260107T203659Z
UID:2778-1783814400-1783814400@listerschuetzen.de
SUMMARY:Schützenfest Schreibershof
DESCRIPTION:Haltestellen Bustransfer: \n09:50 Uhr Windberuch \n10:05 Uhr Haustadt / Wiebche \n10:15 Uhr Valbert \n10:25 Uhr Berlinghausen \n10:35 Uhr Hunswinkel \nRückfahrt 14:30 Uhr \nHaltestellen Rückfahrt wie Hinfahrt.
URL:https://listerschuetzen.de/veranstaltungen/schuetzenfest-schreibershof-4/
END:VEVENT
BEGIN:VEVENT
DTSTART;TZID=Europe/Berlin:20260714T180000
DTEND;TZID=Europe/Berlin:20260714T200000
DTSTAMP:20260420T142528
CREATED:20260107T211243Z
LAST-MODIFIED:20260107T211243Z
UID:2836-1784052000-1784059200@listerschuetzen.de
SUMMARY:Luftgewehrschießen
DESCRIPTION:
URL:https://listerschuetzen.de/veranstaltungen/luftgewehrschiessen-97/
LOCATION:Listerhalle\, Listerstraße 32\, Meinerzhagen\, 58540
END:VEVENT
BEGIN:VEVENT
DTSTART;TZID=Europe/Berlin:20260718T000000
DTEND;TZID=Europe/Berlin:20260718T000000
DTSTAMP:20260420T142528
CREATED:20260107T204022Z
LAST-MODIFIED:20260107T204022Z
UID:2782-1784332800-1784332800@listerschuetzen.de
SUMMARY:Schützenfest Valbert
DESCRIPTION:Haltestellen Bustransfer: \n18:15 Uhr Berlinghausen \n18:25 Uhr Hunswinkel \n18:30 Uhr Haustadt / Wiebche \nRückfahrt 00:00 Uhr \nHaltestellen Rückfahrt wie Hinfahrt.
URL:https://listerschuetzen.de/veranstaltungen/schuetzenfest-valbert-5/
END:VEVENT
BEGIN:VEVENT
DTSTART;TZID=Europe/Berlin:20260718T100000
DTEND;TZID=Europe/Berlin:20260718T100000
DTSTAMP:20260420T142528
CREATED:20260107T203831Z
LAST-MODIFIED:20260107T203831Z
UID:2780-1784368800-1784368800@listerschuetzen.de
SUMMARY:Instandsetzung Hallenumfeld
DESCRIPTION:
URL:https://listerschuetzen.de/veranstaltungen/instandsetzung-hallenumfeld-3/
LOCATION:Listerhalle\, Listerstraße 32\, Meinerzhagen\, 58540
END:VEVENT
BEGIN:VEVENT
DTSTART;TZID=Europe/Berlin:20260722T180000
DTEND;TZID=Europe/Berlin:20260722T180000
DTSTAMP:20260420T142528
CREATED:20260107T204134Z
LAST-MODIFIED:20260107T204157Z
UID:2784-1784743200-1784743200@listerschuetzen.de
SUMMARY:Halle einräumen
DESCRIPTION:
URL:https://listerschuetzen.de/veranstaltungen/halle-einraeumen-5/
LOCATION:Listerhalle\, Listerstraße 32\, Meinerzhagen\, 58540
END:VEVENT
BEGIN:VEVENT
DTSTART;TZID=Europe/Berlin:20260723T180000
DTEND;TZID=Europe/Berlin:20260723T180000
DTSTAMP:20260420T142528
CREATED:20260107T204256Z
LAST-MODIFIED:20260107T204256Z
UID:2786-1784829600-1784829600@listerschuetzen.de
SUMMARY:Girlandebinden
DESCRIPTION:
URL:https://listerschuetzen.de/veranstaltungen/girlandebinden-4/
END:VEVENT
BEGIN:VEVENT
DTSTART;TZID=Europe/Berlin:20260724T000000
DTEND;TZID=Europe/Berlin:20260726T000000
DTSTAMP:20260420T142528
CREATED:20260107T204504Z
LAST-MODIFIED:20260107T204504Z
UID:2788-1784851200-1785024000@listerschuetzen.de
SUMMARY:Schützenfest Hunswinkel
DESCRIPTION:
URL:https://listerschuetzen.de/veranstaltungen/schuetzenfest-hunswinkel-2/
END:VEVENT
END:VCALENDAR