BEGIN:VCALENDAR
VERSION:2.0
PRODID:-//Listerschützen - ECPv6.15.20//NONSGML v1.0//EN
CALSCALE:GREGORIAN
METHOD:PUBLISH
X-ORIGINAL-URL:https://listerschuetzen.de
X-WR-CALDESC:Veranstaltungen für Listerschützen
REFRESH-INTERVAL;VALUE=DURATION:PT1H
X-Robots-Tag:noindex
X-PUBLISHED-TTL:PT1H
BEGIN:VTIMEZONE
TZID:Europe/Berlin
BEGIN:DAYLIGHT
TZOFFSETFROM:+0100
TZOFFSETTO:+0200
TZNAME:CEST
DTSTART:20240331T010000
END:DAYLIGHT
BEGIN:STANDARD
TZOFFSETFROM:+0200
TZOFFSETTO:+0100
TZNAME:CET
DTSTART:20241027T010000
END:STANDARD
BEGIN:DAYLIGHT
TZOFFSETFROM:+0100
TZOFFSETTO:+0200
TZNAME:CEST
DTSTART:20250330T010000
END:DAYLIGHT
BEGIN:STANDARD
TZOFFSETFROM:+0200
TZOFFSETTO:+0100
TZNAME:CET
DTSTART:20251026T010000
END:STANDARD
BEGIN:DAYLIGHT
TZOFFSETFROM:+0100
TZOFFSETTO:+0200
TZNAME:CEST
DTSTART:20260329T010000
END:DAYLIGHT
BEGIN:STANDARD
TZOFFSETFROM:+0200
TZOFFSETTO:+0100
TZNAME:CET
DTSTART:20261025T010000
END:STANDARD
END:VTIMEZONE
BEGIN:VEVENT
DTSTART;TZID=Europe/Berlin:20250701T180000
DTEND;TZID=Europe/Berlin:20250701T200000
DTSTAMP:20260420T203127
CREATED:20241218T115503Z
LAST-MODIFIED:20241218T115503Z
UID:2539-1751392800-1751400000@listerschuetzen.de
SUMMARY:Luftgewehrschießen
DESCRIPTION:
URL:https://listerschuetzen.de/veranstaltungen/luftgewehrschiessen-76/
LOCATION:Listerhalle\, Listerstraße 32\, Meinerzhagen\, 58540
END:VEVENT
BEGIN:VEVENT
DTSTART;TZID=Europe/Berlin:20250713T095000
DTEND;TZID=Europe/Berlin:20250713T095000
DTSTAMP:20260420T203127
CREATED:20250102T211510Z
LAST-MODIFIED:20250102T211510Z
UID:2573-1752400200-1752400200@listerschuetzen.de
SUMMARY:Schützenfest Schreibershof
DESCRIPTION:Haltestellen Bustransfer: \n09:50 Uhr Windberuch \n10:05 Uhr Haustadt / Wiebche \n10:15 Uhr Valbert \n10:25 Uhr Berlinghausen \n10:35 Uhr Hunswinkel \nRückfahrt 14:30 Uhr \nHaltestellen Rückfahrt wie Hinfahrt.
URL:https://listerschuetzen.de/veranstaltungen/schuetzenfest-schreibershof-3/
END:VEVENT
BEGIN:VEVENT
DTSTART;TZID=Europe/Berlin:20250719T100000
DTEND;TZID=Europe/Berlin:20250719T100000
DTSTAMP:20260420T203127
CREATED:20250102T211726Z
LAST-MODIFIED:20250102T211726Z
UID:2575-1752919200-1752919200@listerschuetzen.de
SUMMARY:Instandsetzung Hallenumfeld
DESCRIPTION:
URL:https://listerschuetzen.de/veranstaltungen/instandsetzung-hallenumfeld-2/
LOCATION:Listerhalle\, Listerstraße 32\, Meinerzhagen\, 58540
END:VEVENT
BEGIN:VEVENT
DTSTART;TZID=Europe/Berlin:20250719T181500
DTEND;TZID=Europe/Berlin:20250719T181500
DTSTAMP:20260420T203127
CREATED:20250102T211912Z
LAST-MODIFIED:20250102T211912Z
UID:2577-1752948900-1752948900@listerschuetzen.de
SUMMARY:Schützenfest Valbert
DESCRIPTION:Haltestellen Bustransfer: \n18:15 Uhr Berlinghausen \n18:25 Uhr Hunswinkel \n18:30 Uhr Haustadt / Wiebche \nRückfahrt 00:00 Uhr \nHaltestellen Rückfahrt wie Hinfahrt.
URL:https://listerschuetzen.de/veranstaltungen/schuetzenfest-valbert-4/
END:VEVENT
BEGIN:VEVENT
DTSTART;TZID=Europe/Berlin:20250723T180000
DTEND;TZID=Europe/Berlin:20250723T180000
DTSTAMP:20260420T203127
CREATED:20250102T212004Z
LAST-MODIFIED:20250102T212004Z
UID:2579-1753293600-1753293600@listerschuetzen.de
SUMMARY:Halle einräumen
DESCRIPTION:
URL:https://listerschuetzen.de/veranstaltungen/halle-einraeumen-4/
LOCATION:Listerhalle\, Listerstraße 32\, Meinerzhagen\, 58540
END:VEVENT
BEGIN:VEVENT
DTSTART;TZID=Europe/Berlin:20250724T180000
DTEND;TZID=Europe/Berlin:20250724T180000
DTSTAMP:20260420T203127
CREATED:20250102T212045Z
LAST-MODIFIED:20250102T212045Z
UID:2581-1753380000-1753380000@listerschuetzen.de
SUMMARY:Girlandebinden
DESCRIPTION:
URL:https://listerschuetzen.de/veranstaltungen/girlandebinden-3/
END:VEVENT
BEGIN:VEVENT
DTSTART;TZID=Europe/Berlin:20250725T000000
DTEND;TZID=Europe/Berlin:20250727T000000
DTSTAMP:20260420T203127
CREATED:20250102T212149Z
LAST-MODIFIED:20250102T212149Z
UID:2583-1753401600-1753574400@listerschuetzen.de
SUMMARY:Schützenfest Hunswinkel
DESCRIPTION:
URL:https://listerschuetzen.de/veranstaltungen/schuetzenfest-hunswinkel/
LOCATION:Listerhalle\, Listerstraße 32\, Meinerzhagen\, 58540
END:VEVENT
BEGIN:VEVENT
DTSTART;TZID=Europe/Berlin:20250729T180000
DTEND;TZID=Europe/Berlin:20250729T180000
DTSTAMP:20260420T203127
CREATED:20250102T212316Z
LAST-MODIFIED:20250102T212410Z
UID:2585-1753812000-1753812000@listerschuetzen.de
SUMMARY:Halle aufräumen
DESCRIPTION:
URL:https://listerschuetzen.de/veranstaltungen/halle-aufraeumen-4/
LOCATION:Listerhalle\, Listerstraße 32\, Meinerzhagen\, 58540
END:VEVENT
END:VCALENDAR