BEGIN:VCALENDAR
VERSION:2.0
PRODID:-//Listerschützen - ECPv6.15.20//NONSGML v1.0//EN
CALSCALE:GREGORIAN
METHOD:PUBLISH
X-ORIGINAL-URL:https://listerschuetzen.de
X-WR-CALDESC:Veranstaltungen für Listerschützen
REFRESH-INTERVAL;VALUE=DURATION:PT1H
X-Robots-Tag:noindex
X-PUBLISHED-TTL:PT1H
BEGIN:VTIMEZONE
TZID:Europe/Berlin
BEGIN:DAYLIGHT
TZOFFSETFROM:+0100
TZOFFSETTO:+0200
TZNAME:CEST
DTSTART:20240331T010000
END:DAYLIGHT
BEGIN:STANDARD
TZOFFSETFROM:+0200
TZOFFSETTO:+0100
TZNAME:CET
DTSTART:20241027T010000
END:STANDARD
BEGIN:DAYLIGHT
TZOFFSETFROM:+0100
TZOFFSETTO:+0200
TZNAME:CEST
DTSTART:20250330T010000
END:DAYLIGHT
BEGIN:STANDARD
TZOFFSETFROM:+0200
TZOFFSETTO:+0100
TZNAME:CET
DTSTART:20251026T010000
END:STANDARD
BEGIN:DAYLIGHT
TZOFFSETFROM:+0100
TZOFFSETTO:+0200
TZNAME:CEST
DTSTART:20260329T010000
END:DAYLIGHT
BEGIN:STANDARD
TZOFFSETFROM:+0200
TZOFFSETTO:+0100
TZNAME:CET
DTSTART:20261025T010000
END:STANDARD
END:VTIMEZONE
BEGIN:VEVENT
DTSTART;TZID=Europe/Berlin:20250503T150000
DTEND;TZID=Europe/Berlin:20250503T150000
DTSTAMP:20260420T233452
CREATED:20250102T210730Z
LAST-MODIFIED:20250102T210730Z
UID:2569-1746284400-1746284400@listerschuetzen.de
SUMMARY:SSB Versammlung
DESCRIPTION:
URL:https://listerschuetzen.de/veranstaltungen/ssb-versammlung-2/
END:VEVENT
BEGIN:VEVENT
DTSTART;TZID=Europe/Berlin:20250506T180000
DTEND;TZID=Europe/Berlin:20250506T200000
DTSTAMP:20260420T233452
CREATED:20241218T115131Z
LAST-MODIFIED:20241218T115131Z
UID:2531-1746554400-1746561600@listerschuetzen.de
SUMMARY:Luftgewehrschießen
DESCRIPTION:
URL:https://listerschuetzen.de/veranstaltungen/luftgewehrschiessen-72/
LOCATION:Listerhalle\, Listerstraße 32\, Meinerzhagen\, 58540
END:VEVENT
BEGIN:VEVENT
DTSTART;TZID=Europe/Berlin:20250520T180000
DTEND;TZID=Europe/Berlin:20250520T180000
DTSTAMP:20260420T233452
CREATED:20241218T115220Z
LAST-MODIFIED:20241218T115220Z
UID:2533-1747764000-1747764000@listerschuetzen.de
SUMMARY:Luftgewehrschießen
DESCRIPTION:
URL:https://listerschuetzen.de/veranstaltungen/luftgewehrschiessen-73/
LOCATION:Listerhalle\, Listerstraße 32\, Meinerzhagen\, 58540
END:VEVENT
END:VCALENDAR